BEGIN:VCALENDAR
VERSION:2.0
PRODID:-//Freeland Fabricators - ECPv6.15.20//NONSGML v1.0//EN
CALSCALE:GREGORIAN
METHOD:PUBLISH
X-WR-CALNAME:Freeland Fabricators
X-ORIGINAL-URL:https://freelandfabricators.com
X-WR-CALDESC:Events for Freeland Fabricators
REFRESH-INTERVAL;VALUE=DURATION:PT1H
X-Robots-Tag:noindex
X-PUBLISHED-TTL:PT1H
BEGIN:VTIMEZONE
TZID:UTC
BEGIN:STANDARD
TZOFFSETFROM:+0000
TZOFFSETTO:+0000
TZNAME:UTC
DTSTART:20250101T000000
END:STANDARD
END:VTIMEZONE
BEGIN:VEVENT
DTSTART;TZID=UTC:20260207T190000
DTEND;TZID=UTC:20260207T200000
DTSTAMP:20260419T194819
CREATED:20260201T233259Z
LAST-MODIFIED:20260201T233259Z
UID:293-1770490800-1770494400@freelandfabricators.com
SUMMARY:Robotics Raffle - Draw Date - February 7\, 2026
DESCRIPTION:It is robot time for the Freeland Fabricators and they are having a raffle to help cover costs to build their robot. Tickets are $10 a piece. If you are interested in purchasing please reach out to any Freeland Fabricator or comment below to purchase.\n\n\n*Tickets are on sale now! This event is the raffle draw date!\n\n\nDrawing is at 2nd Street Pub on February 7th between 7:00-8:00pm\n\n\n 75 inch TV to watch the Super Bowl on\n HP Flip Laptop to do work or homework\n JBL speaker\n 3d printer\n Filament\n\n\nTHANK YOU FOR ALWAYS SUPPORTING US!!
URL:https://freelandfabricators.com/event/robotics-raffle-draw-date-february-7-2026/
LOCATION:2nd Street Sports Pub\, 274 Meyers St\, Freeland\, 48623\, United States
ATTACH;FMTTYPE=image/jpeg:https://freelandfabricators.com/wp-content/uploads/2026/02/02072026-RoboticsRaffle.jpg
ORGANIZER;CN="Freeland Robotics Boosters":MAILTO:roboticsfunding@freelandschools.net
END:VEVENT
END:VCALENDAR