BEGIN:VCALENDAR
VERSION:2.0
PRODID:-//Freeland Fabricators - ECPv6.15.20//NONSGML v1.0//EN
CALSCALE:GREGORIAN
METHOD:PUBLISH
X-ORIGINAL-URL:https://freelandfabricators.com
X-WR-CALDESC:Events for Freeland Fabricators
REFRESH-INTERVAL;VALUE=DURATION:PT1H
X-Robots-Tag:noindex
X-PUBLISHED-TTL:PT1H
BEGIN:VTIMEZONE
TZID:UTC
BEGIN:STANDARD
TZOFFSETFROM:+0000
TZOFFSETTO:+0000
TZNAME:UTC
DTSTART:20250101T000000
END:STANDARD
END:VTIMEZONE
BEGIN:VEVENT
DTSTART;TZID=UTC:20260322T000000
DTEND;TZID=UTC:20260324T234239
DTSTAMP:20260419T135135
CREATED:20260324T234239Z
LAST-MODIFIED:20260324T234239Z
UID:378-1774137600-1774395759@freelandfabricators.com
SUMMARY:Fuel For The Frontline
DESCRIPTION:The Terminal Drive: A Fight For The Frontline\n \nOur Robotics Team is hosting an event where we donate both non-perishables and gas gift cards to the working TSA workers due to the shut down by the government. So help them out and donate! \n\nMultiple Locations of Drop off\nMore Locations on the way\nAs of right now it will continue based on the government shut down f\nAll donations go to the TSA workers
URL:https://freelandfabricators.com/event/fuel-for-the-frontline/
LOCATION:2nd Street Sports Pub\, 274 Meyers St\, Freeland\, 48623\, United States
ORGANIZER;CN="Freeland Robotics Boosters":MAILTO:roboticsfunding@freelandschools.net
END:VEVENT
END:VCALENDAR